BEGIN:VCALENDAR
VERSION:2.0
PRODID:-//VisualizeU - ECPv6.15.20//NONSGML v1.0//EN
CALSCALE:GREGORIAN
METHOD:PUBLISH
X-WR-CALNAME:VisualizeU
X-ORIGINAL-URL:https://visualizeu.com
X-WR-CALDESC:Events for VisualizeU
REFRESH-INTERVAL;VALUE=DURATION:PT1H
X-Robots-Tag:noindex
X-PUBLISHED-TTL:PT1H
BEGIN:VTIMEZONE
TZID:America/Los_Angeles
BEGIN:DAYLIGHT
TZOFFSETFROM:-0800
TZOFFSETTO:-0700
TZNAME:PDT
DTSTART:20250309T100000
END:DAYLIGHT
BEGIN:STANDARD
TZOFFSETFROM:-0700
TZOFFSETTO:-0800
TZNAME:PST
DTSTART:20251102T090000
END:STANDARD
BEGIN:DAYLIGHT
TZOFFSETFROM:-0800
TZOFFSETTO:-0700
TZNAME:PDT
DTSTART:20260308T100000
END:DAYLIGHT
BEGIN:STANDARD
TZOFFSETFROM:-0700
TZOFFSETTO:-0800
TZNAME:PST
DTSTART:20261101T090000
END:STANDARD
BEGIN:DAYLIGHT
TZOFFSETFROM:-0800
TZOFFSETTO:-0700
TZNAME:PDT
DTSTART:20270314T100000
END:DAYLIGHT
BEGIN:STANDARD
TZOFFSETFROM:-0700
TZOFFSETTO:-0800
TZNAME:PST
DTSTART:20271107T090000
END:STANDARD
END:VTIMEZONE
BEGIN:VEVENT
DTSTART;TZID=America/Los_Angeles:20261116T140000
DTEND;TZID=America/Los_Angeles:20261116T140000
DTSTAMP:20260422T031552
CREATED:20230213T172019Z
LAST-MODIFIED:20251010T202135Z
UID:10000001-1794837600-1794837600@visualizeu.com
SUMMARY:Manifestation Mastery Summit
DESCRIPTION:Step Into Your Best Self\, Join The Manifestation Mastery Summit\nEarly Bird Tickets Will Be Available January 16\, 2026 \nManifestation Mastery Summit \nAt the upcoming Manifestation Mastery workshop\, attendees will gain valuable insights and techniques for manifesting their dreams and reaching their full potential. Here are some key takeaways from the workshop:  \n\nUnderstanding the power of positive thinking and visualization \nDeveloping a growth mindset \nMastering techniques for quieting negative self-talk \nOvercoming limiting beliefs and negative patterns \nBuilding a daily routine for manifestation and mindfulness \nEnhancing self-awareness and emotional intelligence \nPracticing the art of accountability \nHarnessing the power of positive affirmations \n\nWith interactive exercises\, expert guidance\, and inspiring speakers\, this summit is the ultimate opportunity to transform your mindset\, ignite your passion\, and achieve the success you deserve. \nGet ready to embark on a journey of self-discovery and unleash your inner power. This is your chance to reclaim your life\, conquer your fears\, and become the master of your own destiny. So\, what are you waiting for? Join us for a life-changing experience and secure your ticket to the Manifestation Mastery Summit today!  \nBONUS ONE HOUR FROM 4 TO 5 TO CREATE YOUR GOAL BOARD!
URL:https://visualizeu.com/event/manifestation-mastery-summit/
CATEGORIES:Events
ATTACH;FMTTYPE=image/webp:https://visualizeu.com/wp-content/uploads/2023/10/manifestation-mastery-summit.PNG_1682370873-1.webp
END:VEVENT
END:VCALENDAR